Package: ROTS Version: 2.0.0 Command: /home/biocbuild/R/R/bin/R CMD check --install=check:ROTS.install-out.txt --library=/home/biocbuild/R/R/site-library --no-vignettes --timings ROTS_2.0.0.tar.gz StartedAt: 2025-10-14 13:31:48 -0000 (Tue, 14 Oct 2025) EndedAt: 2025-10-14 13:33:31 -0000 (Tue, 14 Oct 2025) EllapsedTime: 103.1 seconds RetCode: 0 Status: OK CheckDir: ROTS.Rcheck Warnings: 0