Package: ROTS Version: 2.0.0 Command: rm -rf ROTS.buildbin-libdir && mkdir ROTS.buildbin-libdir && /Users/biocbuild/BBS/utils/build-universal.sh ROTS_2.0.0.tar.gz /Library/Frameworks/R.framework/Resources/bin/R ROTS.buildbin-libdir StartedAt: 2025-04-21 22:49:59 -0400 (Mon, 21 Apr 2025) EndedAt: 2025-04-21 22:50:06 -0400 (Mon, 21 Apr 2025) EllapsedTime: 7.2 seconds RetCode: 0 Status: OK PackageFile: ROTS_2.0.0.tgz PackageFileSize: 563.5 KiB