Package: RNAsense Version: 1.22.0 Command: rm -rf RNAsense.buildbin-libdir && mkdir RNAsense.buildbin-libdir && E:\biocbuild\bbs-3.21-bioc\R\bin\R.exe CMD INSTALL --build --library=RNAsense.buildbin-libdir RNAsense_1.22.0.tar.gz StartedAt: 2025-08-15 10:08:30 -0400 (Fri, 15 Aug 2025) EndedAt: 2025-08-15 10:08:59 -0400 (Fri, 15 Aug 2025) EllapsedTime: 29.4 seconds RetCode: 0 Status: OK PackageFile: RNAsense_1.22.0.zip PackageFileSize: 877.8 KiB