Package: RNAsense Version: 1.22.0 Command: /home/biocbuild/bbs-3.21-bioc/R/bin/R CMD build --keep-empty-dirs --no-resave-data RNAsense StartedAt: 2025-10-15 19:32:46 -0400 (Wed, 15 Oct 2025) EndedAt: 2025-10-15 19:37:16 -0400 (Wed, 15 Oct 2025) EllapsedTime: 270.3 seconds RetCode: 0 Status: OK PackageFile: RNAsense_1.22.0.tar.gz PackageFileSize: 898.3 KiB