Package: RNAsense Version: 1.22.0 Command: /Library/Frameworks/R.framework/Resources/bin/R CMD INSTALL RNAsense StartedAt: 2025-10-13 16:07:58 -0400 (Mon, 13 Oct 2025) EndedAt: 2025-10-13 16:08:27 -0400 (Mon, 13 Oct 2025) EllapsedTime: 29.1 seconds RetCode: 0 Status: OK