Package: RNAsense Version: 1.22.0 Command: /Library/Frameworks/R.framework/Resources/bin/R CMD build --keep-empty-dirs --no-resave-data RNAsense StartedAt: 2025-10-14 08:02:53 -0400 (Tue, 14 Oct 2025) EndedAt: 2025-10-14 08:08:36 -0400 (Tue, 14 Oct 2025) EllapsedTime: 343.4 seconds RetCode: 0 Status: OK PackageFile: RNAsense_1.22.0.tar.gz PackageFileSize: 912.1 KiB