Package: RNAmodR.AlkAnilineSeq Version: 1.22.0 Command: /home/biocbuild/bbs-3.21-bioc/R/bin/R CMD check --install=check:RNAmodR.AlkAnilineSeq.install-out.txt --library=/home/biocbuild/bbs-3.21-bioc/R/site-library --timings RNAmodR.AlkAnilineSeq_1.22.0.tar.gz StartedAt: 2025-10-16 02:56:18 -0400 (Thu, 16 Oct 2025) EndedAt: 2025-10-16 03:05:17 -0400 (Thu, 16 Oct 2025) EllapsedTime: 538.9 seconds RetCode: 0 Status: OK CheckDir: RNAmodR.AlkAnilineSeq.Rcheck Warnings: 0