Package: RNAmodR.AlkAnilineSeq Version: 1.22.0 Command: /home/biocbuild/R/R/bin/R CMD check --install=check:RNAmodR.AlkAnilineSeq.install-out.txt --library=/home/biocbuild/R/R/site-library --no-vignettes --timings RNAmodR.AlkAnilineSeq_1.22.0.tar.gz StartedAt: 2025-10-14 13:25:04 -0000 (Tue, 14 Oct 2025) EndedAt: 2025-10-14 13:36:04 -0000 (Tue, 14 Oct 2025) EllapsedTime: 660.8 seconds RetCode: 0 Status: OK CheckDir: RNAmodR.AlkAnilineSeq.Rcheck Warnings: 0