Package: RNAdecay Version: 1.28.0 Command: /Library/Frameworks/R.framework/Resources/bin/R CMD check --install=check:RNAdecay.install-out.txt --library=/Library/Frameworks/R.framework/Resources/library --no-vignettes --timings RNAdecay_1.28.0.tar.gz StartedAt: 2025-09-10 08:59:30 -0400 (Wed, 10 Sep 2025) EndedAt: 2025-09-10 09:00:04 -0400 (Wed, 10 Sep 2025) EllapsedTime: 33.7 seconds RetCode: 0 Status: OK CheckDir: RNAdecay.Rcheck Warnings: 0