Package: RNASeqPower Version: 1.48.0 Command: /Library/Frameworks/R.framework/Resources/bin/R CMD INSTALL RNASeqPower StartedAt: 2025-10-13 15:06:22 -0400 (Mon, 13 Oct 2025) EndedAt: 2025-10-13 15:06:24 -0400 (Mon, 13 Oct 2025) EllapsedTime: 2.5 seconds RetCode: 0 Status: OK