Package: RNASeqPower Version: 1.48.0 Command: rm -rf RNASeqPower.buildbin-libdir && mkdir RNASeqPower.buildbin-libdir && /Users/biocbuild/BBS/utils/build-universal.sh RNASeqPower_1.48.0.tar.gz /Library/Frameworks/R.framework/Resources/bin/R RNASeqPower.buildbin-libdir StartedAt: 2025-10-15 20:13:18 -0400 (Wed, 15 Oct 2025) EndedAt: 2025-10-15 20:13:21 -0400 (Wed, 15 Oct 2025) EllapsedTime: 3.3 seconds RetCode: 0 Status: OK PackageFile: RNASeqPower_1.48.0.tgz PackageFileSize: 198.8 KiB