Package: RMassBank Version: 3.18.0 Command: E:\biocbuild\bbs-3.21-bioc\R\bin\R.exe CMD check --no-multiarch --install=check:RMassBank.install-out.txt --library=E:\biocbuild\bbs-3.21-bioc\R\library --no-vignettes --timings RMassBank_3.18.0.tar.gz StartedAt: 2025-08-15 06:11:04 -0400 (Fri, 15 Aug 2025) EndedAt: 2025-08-15 06:18:12 -0400 (Fri, 15 Aug 2025) EllapsedTime: 428.1 seconds RetCode: 0 Status: OK CheckDir: RMassBank.Rcheck Warnings: 0