Package: RMassBank Version: 3.18.0 Command: chmod a+r RMassBank -R && E:\biocbuild\bbs-3.21-bioc\R\bin\R.exe CMD build --keep-empty-dirs --no-resave-data RMassBank StartedAt: 2025-08-14 21:47:04 -0400 (Thu, 14 Aug 2025) EndedAt: 2025-08-14 21:57:43 -0400 (Thu, 14 Aug 2025) EllapsedTime: 639.3 seconds RetCode: 0 Status: OK PackageFile: RMassBank_3.18.0.tar.gz PackageFileSize: 1.1 MiB