Package: RMassBank Version: 3.18.0 Command: rm -rf RMassBank.buildbin-libdir && mkdir RMassBank.buildbin-libdir && E:\biocbuild\bbs-3.21-bioc\R\bin\R.exe CMD INSTALL --build --library=RMassBank.buildbin-libdir RMassBank_3.18.0.tar.gz StartedAt: 2025-08-15 10:07:53 -0400 (Fri, 15 Aug 2025) EndedAt: 2025-08-15 10:10:37 -0400 (Fri, 15 Aug 2025) EllapsedTime: 164.0 seconds RetCode: 0 Status: OK PackageFile: RMassBank_3.18.0.zip PackageFileSize: 2.029 MiB