Package: RMassBank Version: 3.18.0 Command: /Library/Frameworks/R.framework/Resources/bin/R CMD check --install=check:RMassBank.install-out.txt --library=/Library/Frameworks/R.framework/Resources/library --no-vignettes --timings RMassBank_3.18.0.tar.gz StartedAt: 2025-10-14 09:17:18 -0400 (Tue, 14 Oct 2025) EndedAt: 2025-10-14 09:29:10 -0400 (Tue, 14 Oct 2025) EllapsedTime: 712.1 seconds RetCode: 0 Status: OK CheckDir: RMassBank.Rcheck Warnings: 0