Package: RMassBank Version: 3.18.0 Command: /Library/Frameworks/R.framework/Resources/bin/R CMD check --install=check:RMassBank.install-out.txt --library=/Library/Frameworks/R.framework/Resources/library --no-vignettes --timings RMassBank_3.18.0.tar.gz StartedAt: 2025-04-21 23:05:41 -0400 (Mon, 21 Apr 2025) EndedAt: 2025-04-21 23:05:47 -0400 (Mon, 21 Apr 2025) EllapsedTime: 5.7 seconds RetCode: 1 Status: ERROR CheckDir: RMassBank.Rcheck Warnings: NA