Package: RMassBank Version: 3.18.0 Command: /Library/Frameworks/R.framework/Resources/bin/R CMD build --keep-empty-dirs --no-resave-data RMassBank StartedAt: 2025-04-21 18:11:25 -0400 (Mon, 21 Apr 2025) EndedAt: 2025-04-21 18:20:12 -0400 (Mon, 21 Apr 2025) EllapsedTime: 527.0 seconds RetCode: 0 Status: OK PackageFile: RMassBank_3.18.0.tar.gz PackageFileSize: 1.839 MiB