Package: RMassBank Version: 3.18.0 Command: rm -rf RMassBank.buildbin-libdir && mkdir RMassBank.buildbin-libdir && /Users/biocbuild/BBS/utils/build-universal.sh RMassBank_3.18.0.tar.gz /Library/Frameworks/R.framework/Resources/bin/R RMassBank.buildbin-libdir StartedAt: 2025-04-22 01:04:42 -0400 (Tue, 22 Apr 2025) EndedAt: 2025-04-22 01:05:55 -0400 (Tue, 22 Apr 2025) EllapsedTime: 72.5 seconds RetCode: 0 Status: OK PackageFile: RMassBank_3.18.0.tgz PackageFileSize: 2.759 MiB