Package: RMassBank Version: 3.18.0 Command: /home/biocbuild/R/R/bin/R CMD INSTALL RMassBank StartedAt: 2025-10-13 20:55:37 -0000 (Mon, 13 Oct 2025) EndedAt: 2025-10-13 20:56:53 -0000 (Mon, 13 Oct 2025) EllapsedTime: 75.3 seconds RetCode: 0 Status: OK