Package: RMassBank Version: 3.18.0 Command: rm -rf RMassBank.buildbin-libdir && mkdir RMassBank.buildbin-libdir && /Users/biocbuild/BBS/utils/build-universal.sh RMassBank_3.18.0.tar.gz /Library/Frameworks/R.framework/Resources/bin/R RMassBank.buildbin-libdir StartedAt: 2025-04-21 22:49:21 -0400 (Mon, 21 Apr 2025) EndedAt: 2025-04-21 22:49:43 -0400 (Mon, 21 Apr 2025) EllapsedTime: 22.4 seconds RetCode: 0 Status: OK PackageFile: RMassBank_3.18.0.tgz PackageFileSize: 2.767 MiB