Package: RLMM Version: 1.70.0 Command: rm -rf RLMM.buildbin-libdir && mkdir RLMM.buildbin-libdir && E:\biocbuild\bbs-3.21-bioc\R\bin\R.exe CMD INSTALL --build --library=RLMM.buildbin-libdir RLMM_1.70.0.tar.gz StartedAt: 2025-08-15 10:07:47 -0400 (Fri, 15 Aug 2025) EndedAt: 2025-08-15 10:07:52 -0400 (Fri, 15 Aug 2025) EllapsedTime: 4.7 seconds RetCode: 0 Status: OK PackageFile: RLMM_1.70.0.zip PackageFileSize: 186.2 KiB