Package: RLMM Version: 1.70.0 Command: /Library/Frameworks/R.framework/Resources/bin/R CMD build --keep-empty-dirs --no-resave-data RLMM StartedAt: 2025-04-21 18:11:23 -0400 (Mon, 21 Apr 2025) EndedAt: 2025-04-21 18:11:36 -0400 (Mon, 21 Apr 2025) EllapsedTime: 12.6 seconds RetCode: 0 Status: OK PackageFile: RLMM_1.70.0.tar.gz PackageFileSize: 419.6 KiB