Package: RLMM Version: 1.70.0 Command: rm -rf RLMM.buildbin-libdir && mkdir RLMM.buildbin-libdir && /Users/biocbuild/BBS/utils/build-universal.sh RLMM_1.70.0.tar.gz /Library/Frameworks/R.framework/Resources/bin/R RLMM.buildbin-libdir StartedAt: 2025-04-22 01:04:40 -0400 (Tue, 22 Apr 2025) EndedAt: 2025-04-22 01:04:47 -0400 (Tue, 22 Apr 2025) EllapsedTime: 7.0 seconds RetCode: 0 Status: OK PackageFile: RLMM_1.70.0.tgz PackageFileSize: 371.4 KiB