Package: RLMM Version: 1.70.0 Command: /Library/Frameworks/R.framework/Resources/bin/R CMD INSTALL RLMM StartedAt: 2025-04-21 15:01:35 -0400 (Mon, 21 Apr 2025) EndedAt: 2025-04-21 15:01:40 -0400 (Mon, 21 Apr 2025) EllapsedTime: 4.9 seconds RetCode: 0 Status: OK