Package: RJMCMCNucleosomes Version: 1.32.0 Command: /home/biocbuild/bbs-3.21-bioc/R/bin/R CMD check --install=check:RJMCMCNucleosomes.install-out.txt --library=/home/biocbuild/bbs-3.21-bioc/R/site-library --timings RJMCMCNucleosomes_1.32.0.tar.gz StartedAt: 2025-10-16 02:54:34 -0400 (Thu, 16 Oct 2025) EndedAt: 2025-10-16 02:59:09 -0400 (Thu, 16 Oct 2025) EllapsedTime: 275.5 seconds RetCode: 0 Status: OK CheckDir: RJMCMCNucleosomes.Rcheck Warnings: 0