Package: RJMCMCNucleosomes Version: 1.32.0 Command: /Library/Frameworks/R.framework/Resources/bin/R CMD check --install=check:RJMCMCNucleosomes.install-out.txt --library=/Library/Frameworks/R.framework/Resources/library --no-vignettes --timings RJMCMCNucleosomes_1.32.0.tar.gz StartedAt: 2025-10-14 09:16:30 -0400 (Tue, 14 Oct 2025) EndedAt: 2025-10-14 09:25:18 -0400 (Tue, 14 Oct 2025) EllapsedTime: 528.1 seconds RetCode: 0 Status: OK CheckDir: RJMCMCNucleosomes.Rcheck Warnings: 0