Package: RJMCMCNucleosomes Version: 1.32.0 Command: rm -rf RJMCMCNucleosomes.buildbin-libdir && mkdir RJMCMCNucleosomes.buildbin-libdir && /Users/biocbuild/BBS/utils/build-universal.sh RJMCMCNucleosomes_1.32.0.tar.gz /Library/Frameworks/R.framework/Resources/bin/R RJMCMCNucleosomes.buildbin-libdir StartedAt: 2025-10-14 14:35:06 -0400 (Tue, 14 Oct 2025) EndedAt: 2025-10-14 14:37:10 -0400 (Tue, 14 Oct 2025) EllapsedTime: 124.1 seconds RetCode: 0 Status: OK PackageFile: RJMCMCNucleosomes_1.32.0.tgz PackageFileSize: 902.8 KiB