Package: RImmPort Version: 1.36.0 Command: rm -rf RImmPort.buildbin-libdir && mkdir RImmPort.buildbin-libdir && E:\biocbuild\bbs-3.21-bioc\R\bin\R.exe CMD INSTALL --build --library=RImmPort.buildbin-libdir RImmPort_1.36.0.tar.gz StartedAt: 2025-08-15 10:07:38 -0400 (Fri, 15 Aug 2025) EndedAt: 2025-08-15 10:08:21 -0400 (Fri, 15 Aug 2025) EllapsedTime: 43.3 seconds RetCode: 0 Status: OK PackageFile: RImmPort_1.36.0.zip PackageFileSize: 2.522 MiB