Package: RImmPort Version: 1.36.0 Command: /home/biocbuild/bbs-3.21-bioc/R/bin/R CMD INSTALL RImmPort StartedAt: 2025-10-05 15:08:39 -0400 (Sun, 05 Oct 2025) EndedAt: 2025-10-05 15:08:55 -0400 (Sun, 05 Oct 2025) EllapsedTime: 15.4 seconds RetCode: 0 Status: OK