Package: RImmPort Version: 1.36.0 Command: /home/biocbuild/R/R/bin/R CMD build --keep-empty-dirs --no-resave-data RImmPort StartedAt: 2025-09-30 04:37:21 -0000 (Tue, 30 Sep 2025) EndedAt: 2025-09-30 04:37:45 -0000 (Tue, 30 Sep 2025) EllapsedTime: 24.0 seconds RetCode: 0 Status: OK PackageFile: RImmPort_1.36.0.tar.gz PackageFileSize: 2.797 MiB