Package: RImmPort Version: 1.36.0 Command: /Library/Frameworks/R.framework/Resources/bin/R CMD check --install=check:RImmPort.install-out.txt --library=/Library/Frameworks/R.framework/Resources/library --no-vignettes --timings RImmPort_1.36.0.tar.gz StartedAt: 2025-04-21 21:15:36 -0400 (Mon, 21 Apr 2025) EndedAt: 2025-04-21 21:15:58 -0400 (Mon, 21 Apr 2025) EllapsedTime: 21.2 seconds RetCode: 0 Status: OK CheckDir: RImmPort.Rcheck Warnings: 0