Package: RImmPort Version: 1.36.0 Command: /Library/Frameworks/R.framework/Resources/bin/R CMD check --install=check:RImmPort.install-out.txt --library=/Library/Frameworks/R.framework/Resources/library --no-vignettes --timings RImmPort_1.36.0.tar.gz StartedAt: 2025-10-01 09:58:52 -0400 (Wed, 01 Oct 2025) EndedAt: 2025-10-01 09:59:54 -0400 (Wed, 01 Oct 2025) EllapsedTime: 61.9 seconds RetCode: 0 Status: OK CheckDir: RImmPort.Rcheck Warnings: 0