Package: RImmPort Version: 1.36.0 Command: rm -rf RImmPort.buildbin-libdir && mkdir RImmPort.buildbin-libdir && /Users/biocbuild/BBS/utils/build-universal.sh RImmPort_1.36.0.tar.gz /Library/Frameworks/R.framework/Resources/bin/R RImmPort.buildbin-libdir StartedAt: 2025-10-01 20:09:15 -0400 (Wed, 01 Oct 2025) EndedAt: 2025-10-01 20:09:26 -0400 (Wed, 01 Oct 2025) EllapsedTime: 11.3 seconds RetCode: 0 Status: OK PackageFile: RImmPort_1.36.0.tgz PackageFileSize: 2.519 MiB