Package: RIVER Version: 1.32.0 Command: /home/biocbuild/bbs-3.21-bioc/R/bin/R CMD INSTALL RIVER StartedAt: 2025-10-15 15:12:24 -0400 (Wed, 15 Oct 2025) EndedAt: 2025-10-15 15:12:33 -0400 (Wed, 15 Oct 2025) EllapsedTime: 8.7 seconds RetCode: 0 Status: OK