Package: RIVER Version: 1.32.0 Command: /home/biocbuild/bbs-3.21-bioc/R/bin/R CMD check --install=check:RIVER.install-out.txt --library=/home/biocbuild/bbs-3.21-bioc/R/site-library --timings RIVER_1.32.0.tar.gz StartedAt: 2025-10-16 02:54:03 -0400 (Thu, 16 Oct 2025) EndedAt: 2025-10-16 02:55:38 -0400 (Thu, 16 Oct 2025) EllapsedTime: 95.1 seconds RetCode: 0 Status: OK CheckDir: RIVER.Rcheck Warnings: 0