Package: RIVER Version: 1.32.0 Command: /Library/Frameworks/R.framework/Resources/bin/R CMD INSTALL RIVER StartedAt: 2025-09-29 15:20:59 -0400 (Mon, 29 Sep 2025) EndedAt: 2025-09-29 15:21:23 -0400 (Mon, 29 Sep 2025) EllapsedTime: 23.7 seconds RetCode: 0 Status: OK