Package: RITAN Version: 1.32.0 Command: /Library/Frameworks/R.framework/Resources/bin/R CMD INSTALL RITAN StartedAt: 2025-10-13 17:42:46 -0400 (Mon, 13 Oct 2025) EndedAt: 2025-10-13 17:43:36 -0400 (Mon, 13 Oct 2025) EllapsedTime: 50.2 seconds RetCode: 0 Status: OK