Package: RGSEA Version: 1.42.0 Command: E:\biocbuild\bbs-3.21-bioc\R\bin\R.exe CMD check --no-multiarch --install=check:RGSEA.install-out.txt --library=E:\biocbuild\bbs-3.21-bioc\R\library --no-vignettes --timings RGSEA_1.42.0.tar.gz StartedAt: 2025-08-15 06:06:23 -0400 (Fri, 15 Aug 2025) EndedAt: 2025-08-15 06:07:29 -0400 (Fri, 15 Aug 2025) EllapsedTime: 66.2 seconds RetCode: 0 Status: OK CheckDir: RGSEA.Rcheck Warnings: 0