Package: RGSEA Version: 1.42.0 Command: chmod a+r RGSEA -R && E:\biocbuild\bbs-3.21-bioc\R\bin\R.exe CMD build --keep-empty-dirs --no-resave-data RGSEA StartedAt: 2025-08-14 21:44:21 -0400 (Thu, 14 Aug 2025) EndedAt: 2025-08-14 21:45:37 -0400 (Thu, 14 Aug 2025) EllapsedTime: 76.6 seconds RetCode: 0 Status: OK PackageFile: RGSEA_1.42.0.tar.gz PackageFileSize: 1.723 MiB