Package: RGSEA Version: 1.42.0 Command: rm -rf RGSEA.buildbin-libdir && mkdir RGSEA.buildbin-libdir && E:\biocbuild\bbs-3.21-bioc\R\bin\R.exe CMD INSTALL --build --library=RGSEA.buildbin-libdir RGSEA_1.42.0.tar.gz StartedAt: 2025-08-15 10:06:12 -0400 (Fri, 15 Aug 2025) EndedAt: 2025-08-15 10:06:23 -0400 (Fri, 15 Aug 2025) EllapsedTime: 11.1 seconds RetCode: 0 Status: OK PackageFile: RGSEA_1.42.0.zip PackageFileSize: 1.752 MiB