Package: RGSEA Version: 1.42.0 Command: /home/biocbuild/bbs-3.21-bioc/R/bin/R CMD check --install=check:RGSEA.install-out.txt --library=/home/biocbuild/bbs-3.21-bioc/R/site-library --timings RGSEA_1.42.0.tar.gz StartedAt: 2025-10-16 02:50:09 -0400 (Thu, 16 Oct 2025) EndedAt: 2025-10-16 02:51:11 -0400 (Thu, 16 Oct 2025) EllapsedTime: 62.2 seconds RetCode: 0 Status: OK CheckDir: RGSEA.Rcheck Warnings: 0