Package: RGSEA Version: 1.42.0 Command: /home/biocbuild/R/R/bin/R CMD check --install=check:RGSEA.install-out.txt --library=/home/biocbuild/R/R/site-library --no-vignettes --timings RGSEA_1.42.0.tar.gz StartedAt: 2025-10-14 13:16:36 -0000 (Tue, 14 Oct 2025) EndedAt: 2025-10-14 13:17:18 -0000 (Tue, 14 Oct 2025) EllapsedTime: 42.1 seconds RetCode: 0 Status: OK CheckDir: RGSEA.Rcheck Warnings: 0