Package: RESOLVE Version: 1.10.0 Command: rm -rf RESOLVE.buildbin-libdir && mkdir RESOLVE.buildbin-libdir && E:\biocbuild\bbs-3.21-bioc\R\bin\R.exe CMD INSTALL --build --library=RESOLVE.buildbin-libdir RESOLVE_1.10.0.tar.gz StartedAt: 2025-08-15 10:05:34 -0400 (Fri, 15 Aug 2025) EndedAt: 2025-08-15 10:06:32 -0400 (Fri, 15 Aug 2025) EllapsedTime: 58.7 seconds RetCode: 0 Status: OK PackageFile: RESOLVE_1.10.0.zip PackageFileSize: 1010 KiB