Package: REDseq Version: 1.54.0 Command: /home/biocbuild/R/R/bin/R CMD INSTALL REDseq StartedAt: 2025-10-13 21:09:50 -0000 (Mon, 13 Oct 2025) EndedAt: 2025-10-13 21:10:56 -0000 (Mon, 13 Oct 2025) EllapsedTime: 66.7 seconds RetCode: 0 Status: OK