Package: REDseq Version: 1.54.0 Command: /home/biocbuild/R/R/bin/R CMD build --keep-empty-dirs --no-resave-data REDseq StartedAt: 2025-10-14 03:56:08 -0000 (Tue, 14 Oct 2025) EndedAt: 2025-10-14 03:57:43 -0000 (Tue, 14 Oct 2025) EllapsedTime: 95.0 seconds RetCode: 0 Status: OK PackageFile: REDseq_1.54.0.tar.gz PackageFileSize: 351.6 KiB