Package: REBET Version: 1.26.0 Command: /Library/Frameworks/R.framework/Resources/bin/R CMD INSTALL REBET StartedAt: 2025-10-06 15:11:08 -0400 (Mon, 06 Oct 2025) EndedAt: 2025-10-06 15:11:41 -0400 (Mon, 06 Oct 2025) EllapsedTime: 32.7 seconds RetCode: 0 Status: OK