Package: REBET Version: 1.26.0 Command: /home/biocbuild/R/R/bin/R CMD INSTALL REBET StartedAt: 2025-10-06 20:18:16 -0000 (Mon, 06 Oct 2025) EndedAt: 2025-10-06 20:18:41 -0000 (Mon, 06 Oct 2025) EllapsedTime: 25.9 seconds RetCode: 0 Status: OK