Package: REBET Version: 1.26.0 Command: /home/biocbuild/R/R/bin/R CMD build --keep-empty-dirs --no-resave-data REBET StartedAt: 2025-10-07 03:54:15 -0000 (Tue, 07 Oct 2025) EndedAt: 2025-10-07 03:54:30 -0000 (Tue, 07 Oct 2025) EllapsedTime: 15.0 seconds RetCode: 0 Status: OK PackageFile: REBET_1.26.0.tar.gz PackageFileSize: 301.5 KiB