Package: REBET Version: 1.26.0 Command: /Library/Frameworks/R.framework/Resources/bin/R CMD build --keep-empty-dirs --no-resave-data REBET StartedAt: 2025-04-21 17:24:11 -0400 (Mon, 21 Apr 2025) EndedAt: 2025-04-21 17:24:18 -0400 (Mon, 21 Apr 2025) EllapsedTime: 7.1 seconds RetCode: 0 Status: OK PackageFile: REBET_1.26.0.tar.gz PackageFileSize: 309.9 KiB