Package: REBET Version: 1.26.0 Command: /Library/Frameworks/R.framework/Resources/bin/R CMD check --install=check:REBET.install-out.txt --library=/Library/Frameworks/R.framework/Resources/library --no-vignettes --timings REBET_1.26.0.tar.gz StartedAt: 2025-10-08 11:14:53 -0400 (Wed, 08 Oct 2025) EndedAt: 2025-10-08 11:16:01 -0400 (Wed, 08 Oct 2025) EllapsedTime: 68.2 seconds RetCode: 0 Status: OK CheckDir: REBET.Rcheck Warnings: 0